BEGIN:VCALENDAR
VERSION:2.0
PRODID:-//Karla Norton Violin Lessons - ECPv4.7.0.1//NONSGML v1.0//EN
CALSCALE:GREGORIAN
METHOD:PUBLISH
X-WR-CALNAME:Karla Norton Violin Lessons
X-ORIGINAL-URL:https://www.karlanorton.co.nz
X-WR-CALDESC:Events for Karla Norton Violin Lessons
BEGIN:VEVENT
DTSTART;TZID=Pacific/Auckland:20181013T170000
DTEND;TZID=Pacific/Auckland:20181013T193000
DTSTAMP:20181224T081502
CREATED:20180815T072318Z
LAST-MODIFIED:20180815T073640Z
UID:622276-1539450000-1539459000@www.karlanorton.co.nz
SUMMARY:NZ Opera - La Boheme
DESCRIPTION:A lost key and an accidental touch of cold hands in the dark; so begins one of the great romances of all opera. Puccini’s glorious masterpiece of youth\, passionate love and heartbreak springs to life in this exciting production by Jacqueline Coats. The world of the bohemians in this new production is a stylised one with the feel of snow-clad 1890s Paris\, but not tied to one era. Period silhouettes mix with contemporary materials in a wintery setting for a story that remains timeless – how the world changes around the youths as they experience the highs and lows of being in love. \nLa bohème features the return of some of the most brilliant young New Zealand singers on the international stage – Thomas Atkins\, Marlena Devoe\, Julien Van Mellaerts\, and Amelia Berry – along with Australians Timothy Newton and Nicholas Lester. Tobias Ringborg\, who was last in New Zealand for Tosca in 2015\, returns to conduct another of Puccini’s great operas.https://www.karlanorton.co.nz/wp-admin/post-new.php?post_type=tribe_events# \nWhether it’s your first time or your fiftieth\, La bohème will remind you what it means to be alive and in love. \nBecause this is a new production the running time is not yet confirmed but it has an estimate running time of 2 hours and 20 minutes. \nShare with:share tweet share e-mail share save 
URL:https://www.karlanorton.co.nz/performance/nz-opera-la-boheme-5/
LOCATION:Opera House\, Wellington\, 113/111 Manners St\, Wellington\, Wellington\, 6011\, New Zealand
CATEGORIES:Opera
ATTACH;FMTTYPE=image/jpeg:https://www.karlanorton.co.nz/wp-content/uploads/2018/08/La-Boheme.jpg
END:VEVENT
END:VCALENDAR